BEGIN:VCALENDAR
PRODID:NingEventWidget-v1
VERSION:2.0
METHOD:PUBLISH
BEGIN:VTIMEZONE
TZID:America/Chicago
X-LIC-LOCATION:America/Chicago
BEGIN:DAYLIGHT
TZOFFSETFROM:-0600
TZOFFSETTO:-0500
TZNAME:CDT
DTSTART:19700308T020000
RRULE:FREQ=YEARLY;BYMONTH=3;BYDAY=2SU
END:DAYLIGHT
BEGIN:STANDARD
TZOFFSETFROM:-0500
TZOFFSETTO:-0600
TZNAME:CST
DTSTART:19701101T020000
RRULE:FREQ=YEARLY;BYMONTH=11;BYDAY=1SU
END:STANDARD
END:VTIMEZONE
BEGIN:VEVENT
UID:4150782:Event:201403
DTSTAMP:20260424T085923Z
SUMMARY:Freedomworks; Patriots coming from the North to help
DESCRIPTION:Saturday & Sunday  November 3 - 4\nLast week was a treme
 ndous success! Over 90 Patriots, mostly from the Carolinas and Georgia
 , knocked on over 5,000 doors last Friday & Saturday.\n \nBased on th
 is achievement, FreedomWorks has arranged for 30 more volunteers fro
 m North Carolina, South Carolina, and Georgia to help us precinct wal
 k in Duval County on Saturday to ensure a conservative victory. They r
 aised funds for the bus but we need help driving groups of 2-3 around
  the key precincts near our headquarters in JAX Beach.\n \nThe group 
 arrives late Friday night and will be ready to hit the precincts by 8:
 30 Saturday morning. We are asking local volunteers to help drive the
 m around the precincts or to join the walkers. Please meet us at Freed
 omCenter Headquarters, 1502 Roberts Drive, Jacksonville Beach, FL 3225
 0  (Click Here for a Map)  at 7:30 AM Saturday, Nov 3rd for plann
 ing and last minute loading. Lunch and refreshments will be catered an
 d we will finish by 5:00 PM.\n \nSunday, we are asking local teams to
  help us with a last Patriot Walk starting at 12:00 PM\n \nIt is very
  important to know who is willing to help us Friday and/or Saturday.\n
  \nPlease reply to the email or phone below and let us know.\n \nThi
 s is a great event and it it up to us to help these folks help us!\n\n
 For more information visit https://firstcoastteaparty.ning.com/events/
 freedomworks-patriots-coming-from-the-north-to-help
DTSTART;TZID=America/Chicago:20121103T083000
DTEND;TZID=America/Chicago:20121104T120000
CATEGORIES:walking, and, knocking
LOCATION:Freedomworks office
WEBSITE:
URL:
CONTACT:904-614-3810
ORGANIZER:freedom Works
ATTACH;FMTTYPE="image/jpeg":
ATTENDEE;ROLE=REQ-PARTICIPANT;PARTSTAT=ACCEPTED;RSVP=TRUE;CN="Leanne K
 ing":https://firstcoastteaparty.ning.com/profile/LeanneKing
END:VEVENT
END:VCALENDAR
